BEGIN:VCALENDAR
VERSION:2.0
PRODID:-//ChamberMaster//Event Calendar 2.0//EN
METHOD:PUBLISH
X-PUBLISHED-TTL:P3D
REFRESH-INTERVAL:P3D
CALSCALE:GREGORIAN
BEGIN:VEVENT
DTSTART:20241217T010000Z
DTEND:20241217T040000Z
X-MICROSOFT-CDO-ALLDAYEVENT:FALSE
SUMMARY:Chamber Night at UNC men's basketball
DESCRIPTION:Join us for Chamber Night at UNC Men's Basketball and enjoy a fun-filled evening with the community and cheer on the Bears!
X-ALT-DESC;FMTTYPE=text/html:Join us for Chamber Night at UNC Men&#39\;s Basketball and enjoy a fun-filled evening with the community and cheer on the Bears!
LOCATION:Bank of Colorado Arena 270 Alles Dr D\, Greeley\, CO
UID:e.790.19260
SEQUENCE:3
DTSTAMP:20260421T005826Z
URL:https://business.greeleychamber.com/events/details/chamber-night-at-unc-men-s-basketball-19260
END:VEVENT

END:VCALENDAR
