BEGIN:VCALENDAR
VERSION:2.0
PRODID:-//ChamberMaster//Event Calendar 2.0//EN
METHOD:PUBLISH
X-PUBLISHED-TTL:P3D
REFRESH-INTERVAL:P3D
CALSCALE:GREGORIAN
BEGIN:VEVENT
DTSTART:20211128T003000Z
DTEND:20211128T030000Z
X-MICROSOFT-CDO-ALLDAYEVENT:FALSE
SUMMARY:Greeley Lights the Night Parade
DESCRIPTION:Come Celebrate the Holidays!\n\n\n\nThe Greeley Lights the Night Parade & Lincoln Park Tree Lighting Ceremony
X-ALT-DESC;FMTTYPE=text/html:<p><span style="font-size:18px\;"><strong><span style="color:#0000CD\;">Come Celebrate the Holidays!<br />\n<br />\nThe&nbsp\;Greeley Lights the Night Parade &amp\; Lincoln Park Tree Lighting Ceremony</span></strong></span></p>\n\n<p>&nbsp\;</p>\n\n<p>&nbsp\;</p>\n
LOCATION:The Parade will run along 9th Ave starting at 15th St down to Lincoln Park
UID:e.790.17689
SEQUENCE:3
DTSTAMP:20260420T091713Z
URL:https://business.greeleychamber.com/events/details/greeley-lights-the-night-parade-17689
END:VEVENT

END:VCALENDAR
