BEGIN:VCALENDAR
VERSION:2.0
PRODID:-//ChamberMaster//Event Calendar 2.0//EN
METHOD:PUBLISH
X-PUBLISHED-TTL:P3D
REFRESH-INTERVAL:P3D
CALSCALE:GREGORIAN
BEGIN:VEVENT
DTSTART:20230517T230000Z
DTEND:20230518T013000Z
X-MICROSOFT-CDO-ALLDAYEVENT:FALSE
SUMMARY:Leadership Weld County Graduation- Class of 2023
DESCRIPTION:Join us in celebrating the Leadership Weld County Class of 2023!! We invite Leadership Weld County Alumni\, program supporters\, friends and family of the LWC graduates\, and our Chamber Members for a night of connections and celebrating the ever-growing leadership in the Greeley Area & Weld County!\n\n\n\nAgenda includes:\n\n\n	5:00pm: Reception\n\n	\n		 Heavy Hors d'oeuvres\, Beverages\, Networking \n	\n	\n	6:00pm: Program \n	\n		Welcome\n		\n			 Jaime Henning\, President & CEO\, Greeley Area Chamber \n		\n		\n		Leadership Moment Guest Speakers\n		\n			 Scott James\, Weld County Commissioner \n			Elizabeth Mahoney\, Owner\, Leadership Consultant & Coach\, Complete Professional Development \n		\n		\n	\n	\n	6:30pm:  Awards Ceremony\n	7:30pm: Closing \n\n\nThank you Program Sponsors: Anderson & Whitney\, Bank of Colorado\, Burris\, Cintas Corporation\, and Weld Community Foundation\n\nBeverages Sponsored by: Pepsi\n\nCongratulations Graduates:\n\n\n	\n		\n	\n	\n		\n			Amelia Koehmstedt  - The Arc of Weld County\n		\n		\n			Ben Barnhart - Greeley Philharmonic Orchestra\n		\n		\n			Beth Longenecker - University of Northern Colorado\n		\n		\n			Brenda Williamson - Cintas Corporation \n		\n		\n			Carrie Frost - Kaiser Permanente\n		\n		\n			Charles Countee - Sunrise Community Health\n		\n		\n			Desirea Martinez - Prairie Mountain Media / Greeley Tribune\n		\n		\n			Francis Kailey - Witwer\, Oldenburg\, Barry & Groom\, LLP\n		\n		\n			Jaymi Anderson  - Genesis Project of Northern Colorado \n		\n		\n			Jeanna Whipple - DJM.Design\n		\n		\n			Jennifer Almquist - University of Northern Colorado\n		\n		\n			Kacey Larsen - Bank of Colorado- Eaton\n		\n		\n			Karolyn Holman - Banner Health \n		\n		\n			Kassie Godo - FMS Bank\n		\n		\n			Kristen Campbell - Weld Community Credit Union\n		\n		\n			Macy Kovarik - Greeley Area Chamber of Commerce\n		\n		\n			Maureen Walker - Assisted Living Locators\n		\n		\n			Micayla Bellamy Adams - Greeley Philharmonic Orchestra\n		\n		\n			Mistie Trefry - Adeo \n		\n		\n			Nicholas Wilmes - First Advantage\, Branch of First National Bank\n		\n		\n			Paige Millen - City of Greeley\n		\n		\n			Phillip Preston - Burris Optics\n		\n		\n			Rigoberto Rangel - The Weld Trust\n		\n		\n			Suzana Schwengber Espinoza - Sears Real Estate \n		\n		\n			Tammy Piccone - UCHealth Greeley Hospital\n		\n		\n			Taylor Pribble - Northern Engineering\n		\n		\n			Tom Ginn - ALLO Communication\n		\n		\n			Tyler McPherson - FMS Bank\n		\n		\n			Valerie Smith - Weld County Department of Public Health and Environment
X-ALT-DESC;FMTTYPE=text/html:<p><span style="font-family:arial\;"><span style="font-size:18px\;">Join us in celebrating the Leadership Weld County Class of 2023!! We invite Leadership Weld County Alumni\, program supporters\, friends and family of the LWC graduates\, and our Chamber Members for a night of connections and celebrating the ever-growing leadership in the Greeley Area &amp\; Weld County!<br />\n<br />\nAgenda includes:</span></span></p>\n\n<ul>\n	<li><span style="font-family:arial\;"><span style="font-size:18px\;">5:00pm: Reception</span></span>\n\n	<ul>\n		<li><span style="font-family:arial\;"><span style="font-size:18px\;">&#8203\;Heavy Hors d&#39\;oeuvres\,&nbsp\;Beverages\, Networking&nbsp\;</span></span></li>\n	</ul>\n	</li>\n	<li><span style="font-family:arial\;"><span style="font-size:18px\;">6:00pm: Program</span></span><span style="font-family:arial\;"><span style="font-size:18px\;">&#8203\;</span></span>\n	<ul>\n		<li><span style="font-size:18px\;"><span style="font-family:arial\;">Welcome</span></span>\n		<ul>\n			<li><span style="font-size:18px\;"><span style="font-family:arial\;">&nbsp\;Jaime Henning\, President &amp\; CEO\, Greeley Area Chamber&nbsp\;</span></span></li>\n		</ul>\n		</li>\n		<li><span style="font-family:arial\;"><span style="font-size:18px\;">Leadership Moment Guest Speakers</span></span>\n		<ul>\n			<li><span style="font-family:arial\;"><span style="font-size:18px\;">&#8203\;Scott James\, Weld County Commissioner&nbsp\;</span></span></li>\n			<li><span style="font-family:arial\;"><span style="font-size:18px\;">Elizabeth Mahoney\, Owner\, Leadership Consultant &amp\; Coach\,&nbsp\;Complete Professional Development&nbsp\;</span></span></li>\n		</ul>\n		</li>\n	</ul>\n	</li>\n	<li><span style="font-family:arial\;"><span style="font-size:18px\;">6:30pm:&nbsp\; Awards Ceremony</span></span></li>\n	<li><span style="font-family:arial\;"><span style="font-size:18px\;">7:30pm: Closing&nbsp\;</span></span></li>\n</ul>\n\n<p><span style="font-family:arial\;"><span style="font-size:18px\;">Thank you Program Sponsors:&nbsp\;Anderson &amp\; Whitney\,&nbsp\;Bank of&nbsp\;Colorado\,&nbsp\;Burris\,&nbsp\;Cintas Corporation\, and Weld Community Foundation</span></span></p>\n\n<p><span style="font-size:18px\;"><span style="font-family:arial\;">Beverages Sponsored by:&nbsp\;Pepsi</span></span></p>\n\n<p><span style="font-size:18px\;"><span style="font-family:arial\;">Congratulations Graduates:</span></span></p>\n\n<table border="0" cellpadding="0" cellspacing="0" style="border-collapse:collapse\;width:752px\;" width="752">\n	<colgroup>\n		<col style="width:752px\;" />\n	</colgroup>\n	<tbody>\n		<tr height="23" style="height:23px\;">\n			<td height="23" style="height:23px\;width:752px\;"><span style="font-size:18px\;"><span style="font-family:arial\;">Amelia Koehmstedt&nbsp\; - The Arc of Weld County</span></span></td>\n		</tr>\n		<tr height="23" style="height:23px\;">\n			<td height="23" style="height:23px\;"><span style="font-size:18px\;"><span style="font-family:arial\;">Ben Barnhart - Greeley Philharmonic Orchestra</span></span></td>\n		</tr>\n		<tr height="23" style="height:23px\;">\n			<td height="23" style="height:23px\;"><span style="font-size:18px\;"><span style="font-family:arial\;">Beth Longenecker - University of Northern Colorado</span></span></td>\n		</tr>\n		<tr height="23" style="height:23px\;">\n			<td height="23" style="height:23px\;"><span style="font-size:18px\;"><span style="font-family:arial\;">Brenda Williamson - Cintas Corporation&nbsp\;</span></span></td>\n		</tr>\n		<tr height="23" style="height:23px\;">\n			<td height="23" style="height:23px\;"><span style="font-size:18px\;"><span style="font-family:arial\;">Carrie Frost - Kaiser Permanente</span></span></td>\n		</tr>\n		<tr height="23" style="height:23px\;">\n			<td height="23" style="height:23px\;"><span style="font-size:18px\;"><span style="font-family:arial\;">Charles Countee - Sunrise Community Health</span></span></td>\n		</tr>\n		<tr height="23" style="height:23px\;">\n			<td height="23" style="height:23px\;"><span style="font-size:18px\;"><span style="font-family:arial\;">Desirea Martinez - Prairie Mountain Media / Greeley Tribune</span></span></td>\n		</tr>\n		<tr height="23" style="height:23px\;">\n			<td height="23" style="height:23px\;"><span style="font-size:18px\;"><span style="font-family:arial\;">Francis Kailey - Witwer\, Oldenburg\, Barry &amp\; Groom\, LLP</span></span></td>\n		</tr>\n		<tr height="23" style="height:23px\;">\n			<td height="23" style="height:23px\;"><span style="font-size:18px\;"><span style="font-family:arial\;">Jaymi Anderson&nbsp\; - Genesis Project of Northern Colorado&nbsp\;</span></span></td>\n		</tr>\n		<tr height="23" style="height:23px\;">\n			<td height="23" style="height:23px\;"><span style="font-size:18px\;"><span style="font-family:arial\;">Jeanna Whipple - DJM.Design</span></span></td>\n		</tr>\n		<tr height="23" style="height:23px\;">\n			<td height="23" style="height:23px\;"><span style="font-size:18px\;"><span style="font-family:arial\;">Jennifer Almquist - University of Northern Colorado</span></span></td>\n		</tr>\n		<tr height="23" style="height:23px\;">\n			<td height="23" style="height:23px\;"><span style="font-size:18px\;"><span style="font-family:arial\;">Kacey Larsen - Bank of Colorado- Eaton</span></span></td>\n		</tr>\n		<tr height="23" style="height:23px\;">\n			<td height="23" style="height:23px\;"><span style="font-size:18px\;"><span style="font-family:arial\;">Karolyn Holman - Banner Health&nbsp\;</span></span></td>\n		</tr>\n		<tr height="23" style="height:23px\;">\n			<td height="23" style="height:23px\;"><span style="font-size:18px\;"><span style="font-family:arial\;">Kassie Godo - FMS Bank</span></span></td>\n		</tr>\n		<tr height="23" style="height:23px\;">\n			<td height="23" style="height:23px\;"><span style="font-size:18px\;"><span style="font-family:arial\;">Kristen Campbell - Weld Community Credit Union</span></span></td>\n		</tr>\n		<tr height="23" style="height:23px\;">\n			<td height="23" style="height:23px\;"><span style="font-size:18px\;"><span style="font-family:arial\;">Macy Kovarik - Greeley Area Chamber of Commerce</span></span></td>\n		</tr>\n		<tr height="23" style="height:23px\;">\n			<td height="23" style="height:23px\;"><span style="font-size:18px\;"><span style="font-family:arial\;">Maureen Walker - Assisted Living Locators</span></span></td>\n		</tr>\n		<tr height="23" style="height:23px\;">\n			<td height="23" style="height:23px\;"><span style="font-size:18px\;"><span style="font-family:arial\;">Micayla Bellamy Adams - Greeley Philharmonic Orchestra</span></span></td>\n		</tr>\n		<tr height="23" style="height:23px\;">\n			<td height="23" style="height:23px\;"><span style="font-size:18px\;"><span style="font-family:arial\;">Mistie Trefry - Adeo&nbsp\;</span></span></td>\n		</tr>\n		<tr height="23" style="height:23px\;">\n			<td height="23" style="height:23px\;"><span style="font-size:18px\;"><span style="font-family:arial\;">Nicholas Wilmes - First Advantage\, Branch of First National Bank</span></span></td>\n		</tr>\n		<tr height="23" style="height:23px\;">\n			<td height="23" style="height:23px\;"><span style="font-size:18px\;"><span style="font-family:arial\;">Paige Millen - City of Greeley</span></span></td>\n		</tr>\n		<tr height="23" style="height:23px\;">\n			<td height="23" style="height:23px\;"><span style="font-size:18px\;"><span style="font-family:arial\;">Phillip Preston - Burris Optics</span></span></td>\n		</tr>\n		<tr height="23" style="height:23px\;">\n			<td height="23" style="height:23px\;"><span style="font-size:18px\;"><span style="font-family:arial\;">Rigoberto Rangel - The Weld Trust</span></span></td>\n		</tr>\n		<tr height="23" style="height:23px\;">\n			<td height="23" style="height:23px\;"><span style="font-size:18px\;"><span style="font-family:arial\;">Suzana Schwengber Espinoza - Sears Real Estate&nbsp\;</span></span></td>\n		</tr>\n		<tr height="23" style="height:23px\;">\n			<td height="23" style="height:23px\;"><span style="font-size:18px\;"><span style="font-family:arial\;">Tammy Piccone - UCHealth Greeley Hospital</span></span></td>\n		</tr>\n		<tr height="23" style="height:23px\;">\n			<td height="23" style="height:23px\;"><span style="font-size:18px\;"><span style="font-family:arial\;">Taylor Pribble - Northern Engineering</span></span></td>\n		</tr>\n		<tr height="23" style="height:23px\;">\n			<td height="23" style="height:23px\;"><span style="font-size:18px\;"><span style="font-family:arial\;">Tom Ginn - ALLO Communication</span></span></td>\n		</tr>\n		<tr height="23" style="height:23px\;">\n			<td height="23" style="height:23px\;"><span style="font-size:18px\;"><span style="font-family:arial\;">Tyler McPherson - FMS Bank</span></span></td>\n		</tr>\n		<tr height="23" style="height:23px\;">\n			<td height="23" style="height:23px\;"><span style="font-size:18px\;"><span style="font-family:arial\;">Valerie Smith - Weld County Department of Public Health and Environment</span></span></td>\n		</tr>\n	</tbody>\n</table>\n
LOCATION:Platte River Fort 22999 US Highway 34 Greeley\, CO 80631
UID:e.790.18865
SEQUENCE:3
DTSTAMP:20260422T055602Z
URL:https://business.greeleychamber.com/events/details/leadership-weld-county-graduation-class-of-2023-18865
END:VEVENT

END:VCALENDAR
