BEGIN:VCALENDAR
VERSION:2.0
PRODID:-//ChamberMaster//Event Calendar 2.0//EN
METHOD:PUBLISH
X-PUBLISHED-TTL:P3D
REFRESH-INTERVAL:P3D
CALSCALE:GREGORIAN
BEGIN:VEVENT
DTSTART:20260716T133000Z
DTEND:20260716T143000Z
X-MICROSOFT-CDO-ALLDAYEVENT:FALSE
SUMMARY:Leads Group
DESCRIPTION:Network with fellow Chamber Members to build connections in structured style. You will have an opportunity to give a verbal advertisement about your business\, we provide a Biz 101 presentation\, followed by a Chamber Member spotlight. Every meeting has valuable content to excel your business growth and provides an opportunity for long lasting partnerships. We look forward to seeing you at the next meeting!
X-ALT-DESC;FMTTYPE=text/html:Network with fellow Chamber Members to build connections in structured style. You will have an opportunity to give a verbal advertisement about your business\, we provide a Biz 101 presentation\, followed by a Chamber Member spotlight. Every meeting has valuable content to excel your business growth and provides an opportunity for long lasting partnerships.&nbsp\;We look forward to seeing you at the next meeting!&nbsp\;
LOCATION:Greeley Chamber of Commerce 902 7th Ave Greeley\, CO 80631
UID:e.790.19024
SEQUENCE:3
DTSTAMP:20260421T142120Z
URL:https://business.greeleychamber.com/events/details/leads-group-07-16-2026-19024
END:VEVENT

END:VCALENDAR
