BEGIN:VCALENDAR
VERSION:2.0
PRODID:-//ChamberMaster//Event Calendar 2.0//EN
METHOD:PUBLISH
X-PUBLISHED-TTL:P3D
REFRESH-INTERVAL:P3D
CALSCALE:GREGORIAN
BEGIN:VEVENT
DTSTART:20130121T173000Z
DTEND:20130121T193000Z
X-MICROSOFT-CDO-ALLDAYEVENT:FALSE
SUMMARY:Martin Luther King\, Jr. March & Celebration
DESCRIPTION:Join the City of Greeley and the University of Northern Colorado as we celebrate the life and legacy of Dr. Martin Luther King Jr. The event\, in its 18th year\, features music\, poetry and inspirational messages based on the teaching of Dr. King.
X-ALT-DESC;FMTTYPE=text/html:Join the City of Greeley and the University of Northern Colorado as we celebrate the life and legacy of Dr. Martin Luther King Jr. The event\, in its 18th year\, features music\, poetry and inspirational messages based on the teaching of Dr. King.
LOCATION:The march beings at 10:30 a.m. at the Greeley Chamber of Commerce (7th Ave & 9th St) and ends at the Union Colony Civic Center. The Ceremony begins at 11:00 a.m. at the Union Colony Civic Center (701 10th Ave). Wade Davis will be available for pictures and autographs following the event. All events are free and open to the public.
UID:e.790.5326
SEQUENCE:3
DTSTAMP:20260419T172539Z
URL:https://business.greeleychamber.com/events/details/martin-luther-king-jr-march-celebration-01-21-2013-5326
END:VEVENT

END:VCALENDAR
