BEGIN:VCALENDAR
VERSION:2.0
PRODID:-//ChamberMaster//Event Calendar 2.0//EN
METHOD:PUBLISH
X-PUBLISHED-TTL:P3D
REFRESH-INTERVAL:P3D
CALSCALE:GREGORIAN
BEGIN:VEVENT
DTSTART:20260528T010000Z
DTEND:20260625T040000Z
X-MICROSOFT-CDO-ALLDAYEVENT:FALSE
SUMMARY:Open Funk Jam w/ Val Chillmer
DESCRIPTION:**FREE SHOW** Open Funk Jam Every 4th Wednesday at 2454 West Come jam with Val Chillmer Instruments provided / Sign up in person Genre: Funk\, Jazz\, Jam 2454 8th Ave. Greeley\, CO Single General Admission (GA) Ticket SHOW ENTRY IS FREE and open to the public. All paid donations go directly towards supporting the artists. Standing room only along the concourse of the venue. Food and Drink service is available self-service from the bar area. Bowling is available for purchase on a first come\, first served basis day of show. Special concert bowling pricing is unlimited bowling for the duration of the show for $15.45 + shoe rental. Full restaurant service available. When you reserve your ticket in advance for one of our donation based concerts\, you get your choice of a free Odell Brewing Co. draft beer\, soda\, or basket of fries. Show your ticket reservation to your bartender to redeem your free item! Only valid with ticket reservation in advance\, limit one deal per person. About the Artist Val Chillmer - A funk & fusion band based out of the Northern Colorado & Denver area. This event will occur every last Wednesday of the month May 27\, 2026 to Jun 24\, 2026.
X-ALT-DESC;FMTTYPE=text/html:**FREE SHOW** Open Funk Jam Every 4th Wednesday at 2454 West Come jam with Val Chillmer Instruments provided / Sign up in person Genre: Funk\, Jazz\, Jam 2454 8th Ave. Greeley\, CO Single General Admission (GA) Ticket SHOW ENTRY IS FREE and open to the public. All paid donations go directly towards supporting the artists. Standing room only along the concourse of the venue. Food and Drink service is available self-service from the bar area. Bowling is available for purchase on a first come\, first served basis day of show. Special concert bowling pricing is unlimited bowling for the duration of the show for $15.45 + shoe rental. Full restaurant service available. When you reserve your ticket in advance for one of our donation based concerts\, you get your choice of a free Odell Brewing Co. draft beer\, soda\, or basket of fries. Show your ticket reservation to your bartender to redeem your free item! Only valid with ticket reservation in advance\, limit one deal per person. About the Artist Val Chillmer - A funk &amp\; fusion band based out of the Northern Colorado &amp\; Denver area. This event will occur every last Wednesday of the month May 27\, 2026 to Jun 24\, 2026.
LOCATION:2454 West - Live Music\, Bowling\, and Arcade 2454 8th Ave Greeley\, CO 80631
UID:e.790.19819
SEQUENCE:3
DTSTAMP:20260424T195655Z
URL:https://business.greeleychamber.com/events/details/open-funk-jam-w-val-chillmer-05-27-2026-19819
END:VEVENT

END:VCALENDAR
