BEGIN:VCALENDAR
VERSION:2.0
PRODID:-//ChamberMaster//Event Calendar 2.0//EN
METHOD:PUBLISH
X-PUBLISHED-TTL:P3D
REFRESH-INTERVAL:P3D
CALSCALE:GREGORIAN
BEGIN:VEVENT
DTSTART:20260613T150000Z
DTEND:20260613T180000Z
X-MICROSOFT-CDO-ALLDAYEVENT:FALSE
SUMMARY:Shred-a-thon
DESCRIPTION:Clean out those files and protect your privacy at our Shred-A-Thon. Bring your old papers\, personal records\, and sensitive documents for secure\, on-site shredding. This event is free to attend\, and donations are happily accepted to support local nonprofits. Shred with purpose and give back to the community at the same time.
X-ALT-DESC;FMTTYPE=text/html:Clean out those files and protect your privacy at our Shred-A-Thon. Bring your old papers\, personal records\, and sensitive documents for secure\, on-site shredding. This event is free to attend\, and donations are happily accepted to support local nonprofits. Shred with purpose and give back to the community at the same time.
LOCATION:FMS Bank 2425 35th Ave. Greeley\, Co 80634
UID:e.790.19770
SEQUENCE:3
DTSTAMP:20260422T090759Z
URL:https://business.greeleychamber.com/events/details/shred-a-thon-19770
END:VEVENT

END:VCALENDAR
